BEGIN:VCALENDAR
PRODID:-//AT Content Types//AT Event//EN
VERSION:1.0
BEGIN:VEVENT
DTSTART:20210715T080000Z
DTEND:20210715T090000Z
DCREATED:20210616T132605Z
UID:ATEvent-0578a4e611a54b9384cd55ca7a334a18
SEQUENCE:0
LAST-MODIFIED:20241007T082735Z
SUMMARY:Online-Workshop // Eva Falaschi: The Fragments of Greek Art Treaties and Their Afterlive in The Ancient and Modern World. Collection\, Translation\, Commentary
DESCRIPTION:Fellows und Mitarbeitende des ZI sowie Gastwissenschaftler
 innen und Gastwissenschaftler berichten über laufende Arbeiten. Die o
 ffene Form des Workshops ermöglicht eine intensive Diskussion.
PRIORITY:3
TRANSP:0
END:VEVENT
END:VCALENDAR
