BEGIN:VCALENDAR
PRODID:-//AT Content Types//AT Event//EN
VERSION:1.0
BEGIN:VEVENT
DTSTART:20210416T090000Z
DTEND:20210416T100000Z
DCREATED:20210325T075415Z
UID:ATEvent-ed7d4f4f16654edbb4170611fd2ac41b
SEQUENCE:0
LAST-MODIFIED:20241002T112252Z
SUMMARY:Online-Workshop //  Isabelle Lindermann: Die Kunst\, nicht dermaßen ausgestellt zu werden: Selbstorganisation und feministische Kritik als Ausstellungspraxis in den 1970er Jahren
DESCRIPTION:Stipendiaten und Mitarbeiter des ZI sowie Gastwissenschaft
 ler berichten über laufende Arbeiten. Die offene Form des Workshops e
 rmöglicht eine intensive Diskussion.
PRIORITY:3
TRANSP:0
END:VEVENT
END:VCALENDAR
