BEGIN:VCALENDAR
PRODID:-//AT Content Types//AT Event//EN
VERSION:2.0
METHOD:PUBLISH
BEGIN:VEVENT
DTSTAMP:20260421T080010Z
CREATED:20210215T080059Z
UID:ATEvent-62ba7ed423af461599b98b2dba4d3538
LAST-MODIFIED:20241002T111001Z
SUMMARY:Online-Workshop // Kirsten Burke: Johann Neudörffer and the Writing Masters of Renaissance Germany
DTSTART:20210225T101500Z
DTEND:20210225T111500Z
DESCRIPTION:Stipendiaten und Mitarbeiter des ZI sowie Gastwissenschaft
 ler berichten über laufende Arbeiten. Die offene Form des Workshops e
 rmöglicht eine intensive Diskussion.
CATEGORIES:2021, Stipendium des DAAD
CLASS:PUBLIC
END:VEVENT
END:VCALENDAR
