BEGIN:VCALENDAR
PRODID:-//AT Content Types//AT Event//EN
VERSION:2.0
METHOD:PUBLISH
BEGIN:VEVENT
DTSTAMP:20260422T235514Z
CREATED:20210318T133528Z
UID:ATEvent-b8ac712415fe441ca56c10203cfe99fd
LAST-MODIFIED:20250103T085620Z
SUMMARY:The Hugo Helbing Lecture 2021 // Lynn Catterson: Stefano Bardini and Wilhelm von Bode:  A Case of Collaborative Contamination of the Canon and the Scholarly Literature?
DTSTART:20210428T163000Z
DTEND:20210428T180000Z
DESCRIPTION:This lecture is part of the Hugo Helbing Lecture Series. â
 €˜The Hugo Helbing Lecture â€“ Exploring the Art Marketâ€™ commemorate
 s the achievements of Hugo Helbing every year. It was first held in 20
 16 on the occasion of the donation of annotated auction catalogues fro
 m his firm to the Zentralinstitut fÃ¼r Kunstgeschichte\, Munich.
CATEGORIES:The Hugo Helbing Lecture, 2021
CLASS:PUBLIC
END:VEVENT
END:VCALENDAR
