BEGIN:VCALENDAR
PRODID:-//AT Content Types//AT Event//EN
VERSION:1.0
BEGIN:VEVENT
DTSTART:20211215T140000Z
DTEND:20211216T170000Z
DCREATED:20210519T141818Z
UID:ATEvent-5f4d5c70ea064d49ad717e71b3363b61
SEQUENCE:0
LAST-MODIFIED:20241002T113325Z
SUMMARY:Online-Workshop // Digital realities: political imagery and mediatized nature in times of Covid-19
DESCRIPTION:Im Zentrum des Workshops stehen digitale Ephemera in Zeite
 n von Covid-19\, insbesondere im Kontext aktueller politischer Krisen 
 wie sozialer Brüche\, der Pandemie und dem Klimawandel und deren Narr
 ative\, die von virtuellen Protesten über eine veränderte Naturwahrn
 ehmung während der Pandemie und ihrer Unterbrechung des globalen Allt
 ags bis zu Fragen der Desinformation reichen. Diskutiert werden soll d
 ie Entstehung einer zeitspezifischen politisch-ökologischen Ikonograp
 hie und welchen Einfluss diese auf die ubiquitäre Generierung und Dis
 tribution digitaler (Bewegt-)Bilder als Abbild und Stellvertreter der 
 pandemischen Realität besitzt.
PRIORITY:3
TRANSP:0
END:VEVENT
END:VCALENDAR
