BEGIN:VCALENDAR
PRODID:-//AT Content Types//AT Event//EN
VERSION:2.0
METHOD:PUBLISH
BEGIN:VEVENT
DTSTAMP:20260421T054013Z
CREATED:20220629T115818Z
UID:ATEvent-2cd0f1a0813c44a1ba43e61a86012aae
LAST-MODIFIED:20240930T110626Z
SUMMARY:Conference // Art information: reflection and the future
DTSTART:20221014T064500Z
DTEND:20221015T140000Z
DESCRIPTION:9th International Conference for Art Libraries
LOCATION:Main Reading Room of the Zentralinstitut für Kunstgeschichte\, Katharina-von-Bora-Str. 10\, 80333 Munich
CATEGORIES:2022
CLASS:PUBLIC
END:VEVENT
END:VCALENDAR
