BEGIN:VCALENDAR
PRODID:-//AT Content Types//AT Event//EN
VERSION:2.0
METHOD:PUBLISH
BEGIN:VEVENT
DTSTAMP:20260421T190035Z
CREATED:20220512T090301Z
UID:ATEvent-c1013d3e86de4c16b1016fef11530c25
LAST-MODIFIED:20240930T110202Z
SUMMARY:Ausstellungseröffnung // Martin Werthmann. Interlacing Spaces
DTSTART:20220623T160000Z
DTEND:20220623T180000Z
LOCATION:Zentralinstitut für Kunstgeschichte\, Katharina-von-Bora-Straße 10\, 80333 München\, Lichthof Nord\, I. OG
CATEGORIES:2022
CLASS:PUBLIC
END:VEVENT
END:VCALENDAR
