BEGIN:VCALENDAR
PRODID:-//AT Content Types//AT Event//EN
VERSION:2.0
METHOD:PUBLISH
BEGIN:VEVENT
DTSTAMP:20260423T114748Z
CREATED:20220511T141927Z
UID:ATEvent-ff75f49252284f7aa3ea028a0532c935
LAST-MODIFIED:20240930T110136Z
SUMMARY:Current Research. Lektüreseminar am ZI mit Jean-François Corpataux: Tizian\, Philipp II. und der Andromeda-Effekt
DTSTART:20220713T120000Z
DTEND:20220713T140000Z
DESCRIPTION:Das Lektüreseminar diskutiert jüngst publizierte Arbeite
 n oder aber weitgehend abgeschlossene Manuskripte. Die Texte werden vi
 er Wochen im Voraus an die Teilnehmer*innen verschickt und dann gemein
 sam mit den Autor*innen diskutiert.
LOCATION:Zentralinstitut für Kunstgeschichte\, Katharina-von-Bora-Str. 10\, München\, Vortragssaal 242\, II. OG
CATEGORIES:2022
CLASS:PUBLIC
END:VEVENT
END:VCALENDAR
