BEGIN:VCALENDAR
PRODID:-//AT Content Types//AT Event//EN
VERSION:2.0
METHOD:PUBLISH
BEGIN:VEVENT
DTSTAMP:20260420T095818Z
CREATED:20220721T100935Z
UID:ATEvent-1a8631c3e5bc4c3490454623e42eaf3e
LAST-MODIFIED:20240930T110738Z
SUMMARY:ZI – die nächsten 75 Jahre
DTSTART:20221026T161500Z
DTEND:20221026T180000Z
DESCRIPTION:Vorstellung der Publikation „ZI 75 – das Zentralinstit
 ut für Kunstgeschichte in München“\, Präsentation der App „Muni
 chArtToGo“ und Eröffnung der Ausstellung „Kunstgeschichte! Forsch
 ungsinstitute weltweit“.
LOCATION:Zentralinstitut für Kunstgeschichte\, Katharina-von-Bora-Str. 10\, München\, Vortragssaal 242\, II. OG und digital
CATEGORIES:2022
CLASS:PUBLIC
END:VEVENT
END:VCALENDAR
