BEGIN:VCALENDAR
PRODID:-//AT Content Types//AT Event//EN
VERSION:1.0
BEGIN:VEVENT
DTSTART:20220504T161500Z
DTEND:20220504T180000Z
DCREATED:20220317T145338Z
UID:ATEvent-03dccc000007446bb3f75d4f8e5bb45d
SEQUENCE:0
LAST-MODIFIED:20250326T091755Z
SUMMARY:Festvortrag Theodor-Fischer-Preis 2022 // Erik Wegerhoff: Auf Gottes Schrottplatz. Peter Blakes architekturtheoretische U-Turns
DESCRIPTION:Aus Anlass der Vergabe des Theodor-Fischer-Preises 2022 an
  Dr. Davide Spina und Dr. Korinna Weber | Teil der Vortragsreihe „St
 adt Park Umwelt – urbane Konzepte im 20. Jahrhundert“. 20 Jahre Th
 eodor-Fischer-Preis - 50 Jahre Olympische Spiele 1972 in München.
LOCATION:Zentralinstitut für Kunstgeschichte\, Katharina-von-Bora-Str. 10\, München\, Vortragssaal 242\, II. OG und digital
PRIORITY:3
TRANSP:0
END:VEVENT
END:VCALENDAR
