BEGIN:VCALENDAR
PRODID:-//AT Content Types//AT Event//EN
VERSION:2.0
METHOD:PUBLISH
BEGIN:VEVENT
DTSTAMP:20260421T084744Z
CREATED:20220330T110540Z
UID:ATEvent-75c991c766114cb384eab19e11c389b0
LAST-MODIFIED:20240930T104848Z
SUMMARY:Vergabe des Willibald-Sauerländer-Preises 2022
DTSTART:20220713T161500Z
DTEND:20220713T163000Z
DESCRIPTION:Aus Anlass der Vergabe des Willibald-Sauerländer-Preises 
 2022 an Dr. Léa Kuhn\, Frankfurt a. Main\, für ihre Publikation „G
 emalte Kunstgeschichte. Bildgenealogien in der Malerei um 1800".
CATEGORIES:2022
CLASS:PUBLIC
END:VEVENT
END:VCALENDAR
