BEGIN:VCALENDAR
PRODID:-//AT Content Types//AT Event//EN
VERSION:2.0
METHOD:PUBLISH
BEGIN:VEVENT
DTSTAMP:20260419T193815Z
CREATED:20211202T101505Z
UID:ATEvent-17eb5ca36cb34a88b2361b728ef6f56f
LAST-MODIFIED:20250103T085609Z
SUMMARY:The Hugo Helbing Lecture 2022 // Anne Helmreich: Charting our Future - art market studies and provenance research in the digital age
DTSTART:20220427T161500Z
DTEND:20220427T180000Z
DESCRIPTION:This lecture is part of the Hugo Helbing Lecture Series. â
 €˜The Hugo Helbing Lecture â€“ Exploring the Art Marketâ€™ commemorate
 s the achievements of Hugo Helbing every year. It was first held in 20
 16 on the occasion of the donation of annotated auction catalogues fro
 m his firm to the Zentralinstitut fÃ¼r Kunstgeschichte\, Munich.
LOCATION:Zentralinstitut fÃ¼r Kunstgeschichte\, Katharina-von-Bora-Str. 10\, MÃ¼nchen\, Vortragssaal 242\, II. OG und digital
CATEGORIES:2022, The Hugo Helbing Lecture
CLASS:PUBLIC
END:VEVENT
END:VCALENDAR
