BEGIN:VCALENDAR
PRODID:-//AT Content Types//AT Event//EN
VERSION:2.0
METHOD:PUBLISH
BEGIN:VEVENT
DTSTAMP:20260421T190318Z
CREATED:20220318T112245Z
UID:ATEvent-bbcedd39820c47c39b94be1a229a7de4
LAST-MODIFIED:20240930T104313Z
SUMMARY:Kolloquium in Zusammenarbeit mit dem Deutschen Verein für Kunstwissenschaft //  Mythenbildung: Wolfgang Augustyn zum 65. Geburtstag
DTSTART:20220603T161500Z
DTEND:20220603T180000Z
DESCRIPTION:Mit Beiträgen von Dorothee und Peter Diemer\, München\, 
 Bernhard Maaz\, München\, und Ulrich Rehm\, Bochum
LOCATION:Zentralinstitut für Kunstgeschichte\, Vortragssaal 242\, II. OG
CATEGORIES:2022
CLASS:PUBLIC
END:VEVENT
END:VCALENDAR
