BEGIN:VCALENDAR
PRODID:-//AT Content Types//AT Event//EN
VERSION:1.0
BEGIN:VEVENT
DTSTART:20220126T113000Z
DTEND:20220126T190000Z
DCREATED:20221123T144154Z
UID:ATEvent-2d8d688f78354faabcf9f67aec82817b
SEQUENCE:0
LAST-MODIFIED:20241028T125331Z
SUMMARY:Online | Kolloquium Provenienz- und Sammlungsforschung XIII
DESCRIPTION:Hugo Helbing: Galerie\, Kunsthandlung\, Auktionshaus “vo
 n Weltgeltung” 1885-1938. Kunstmarktforschung mit digitalen Quellen
LOCATION:digital
PRIORITY:3
TRANSP:0
END:VEVENT
END:VCALENDAR
