BEGIN:VCALENDAR
PRODID:-//AT Content Types//AT Event//EN
VERSION:1.0
BEGIN:VEVENT
DTSTART:20220322T173000Z
DTEND:20220322T190000Z
DCREATED:20220107T144633Z
UID:ATEvent-2866c5ceb2d44bb3aa01c1c2852120dc
SEQUENCE:0
LAST-MODIFIED:20250326T092005Z
SUMMARY:Online-Vorträge // DESIDERIUM. Vorträge von Franco Tomasi\, Padua\, und Ulrich Pfisterer\, München
DESCRIPTION:Diese Veranstaltung ist Teil der Veranstaltungsreihe "Rena
 issance der Passionen / Rinascimento delle passioni / Renaissance of P
 assions" ( 9. März 2022 - 20. April 2022)
PRIORITY:3
TRANSP:0
END:VEVENT
END:VCALENDAR
