BEGIN:VCALENDAR
PRODID:-//AT Content Types//AT Event//EN
VERSION:2.0
METHOD:PUBLISH
BEGIN:VEVENT
DTSTAMP:20260421T100232Z
CREATED:20220107T144224Z
UID:ATEvent-9f098cac07c848eaa7c42172f395bfaf
LAST-MODIFIED:20250326T091927Z
SUMMARY:Online-Vorträge //  TIMOR. Vorträge von Emanuele Cutinelli-Rendina\, Strasbourg\, und Scott Nethersole\, London
DTSTART:20220309T173000Z
DTEND:20220309T190000Z
DESCRIPTION:Diese Veranstaltung ist Teil der Veranstaltungsreihe "Rena
 issance der Passionen / Rinascimento delle passioni / Renaissance of P
 assions" (9. März 2022 - 20. April 2022)
CATEGORIES:2022, Reihe Renaissance der Passionen
CLASS:PUBLIC
END:VEVENT
END:VCALENDAR
