BEGIN:VCALENDAR
PRODID:-//AT Content Types//AT Event//EN
VERSION:2.0
METHOD:PUBLISH
BEGIN:VEVENT
DTSTAMP:20260426T033256Z
CREATED:20211210T101018Z
UID:ATEvent-608fd87839834d4e8f7dd8e43284bbc2
LAST-MODIFIED:20260130T094112Z
SUMMARY:Tagung // Hauen und Stechen. Zu Turnieren im 15. und 16. Jahrhundert
DTSTART:20220708T070000Z
DTEND:20220709T120000Z
DESCRIPTION:Tagung in Kooperation mit dem Bayerischen Nationalmuseum\,
  begleitend zur Studioausstellung „Turnier. Wettkampf und Spiel“ i
 m Bayerischen Nationalmuseum.
LOCATION:Zentralinstitut für Kunstgeschichte\, Katharina-von-Bora-Str. 10\, München\, Vortragssaal 242\, II. OG und digital\; Bayerisches Nationalmuseum\, Prinzregentenstraße 3\, 80538 München
CATEGORIES:2022, Forschungsstelle Realienkunde
CLASS:PUBLIC
END:VEVENT
END:VCALENDAR
