BEGIN:VCALENDAR
PRODID:-//AT Content Types//AT Event//EN
VERSION:2.0
METHOD:PUBLISH
BEGIN:VEVENT
DTSTAMP:20260422T235909Z
CREATED:20220317T162155Z
UID:ATEvent-f7e4f10b859b4ab7bd399168919b0604
LAST-MODIFIED:20240930T104138Z
SUMMARY:Vortrag // Kristin B. Aavitsland: Medieval Devotional Measures - Relic\, Image\, Mirror?
DTSTART:20220622T161500Z
DTEND:20220622T180000Z
LOCATION:Zentralinstitut für Kunstgeschichte\, Katharina-von-Bora-Str. 10\, München\, Vortragssaal 242\, II. OG und digita
CATEGORIES:2022
CLASS:PUBLIC
END:VEVENT
END:VCALENDAR
