BEGIN:VCALENDAR
PRODID:-//AT Content Types//AT Event//EN
VERSION:1.0
BEGIN:VEVENT
DTSTART:20220706T161500Z
DTEND:20220706T164500Z
DCREATED:20220414T110551Z
UID:ATEvent-6efc61ab5faa4db4a980497c4417164f
SEQUENCE:0
LAST-MODIFIED:20250326T091341Z
SUMMARY:Vortrag // Oskar Bätschmann: Form- und Inhaltsanalyse. Wölfflin und Panofsky über Dürer
DESCRIPTION:Der Vortrag ist Teil der vierteiligen Vortragsreihe „For
 mfragen: Stil und Inhalt in der deutschen Kunstwissenschaft". Sektion:
  I. NACH 1900: SCHISMA VON FORMANALYSE UND IKONOLOGIE
LOCATION:Zentralinstitut für Kunstgeschichte\, Katharina-von-Bora-Str. 10\, München\, Vortragssaal 242\, II. OG
PRIORITY:3
TRANSP:0
END:VEVENT
END:VCALENDAR
