BEGIN:VCALENDAR
PRODID:-//AT Content Types//AT Event//EN
VERSION:2.0
METHOD:PUBLISH
BEGIN:VEVENT
DTSTAMP:20260425T023147Z
CREATED:20220317T151407Z
UID:ATEvent-e33e2b7e0b764219aa9708fd087a0950
LAST-MODIFIED:20250326T091837Z
SUMMARY:Vortrag // Sonja Dümpelmann: Turnplatz\, Spielplatz\, Sportplatz. Zur Entwicklung und Verortung moderner Körperkultur im 19. und 20. Jahrhundert
DTSTART:20220629T161500Z
DTEND:20220629T180000Z
DESCRIPTION:Teil der Vortragsreihe „Stadt Park Umwelt – urbane Kon
 zepte im 20. Jahrhundert“. 20 Jahre Theodor-Fischer-Preis - 50 Jahre
  Olympische Spiele 1972 in München.
LOCATION:Zentralinstitut für Kunstgeschichte\, Katharina-von-Bora-Str. 10\, München\, Vortragssaal 242\, II. OG und digital
CATEGORIES:2022, Reihe Stadt Park Umwelt
CLASS:PUBLIC
END:VEVENT
END:VCALENDAR
