BEGIN:VCALENDAR
PRODID:-//AT Content Types//AT Event//EN
VERSION:1.0
BEGIN:VEVENT
DTSTART:20220525T161500Z
DTEND:20220525T180000Z
DCREATED:20220330T145049Z
UID:ATEvent-0f57834659244c69a5b7bdc10a0f1b1a
SEQUENCE:0
LAST-MODIFIED:20240930T105003Z
SUMMARY:Vortrag // Stefaniia Demchuk: Decolonising Ukrainian Art History
LOCATION:Zentralinstitut für Kunstgeschichte\, Vortragsraum 242\, II. OG und digital
PRIORITY:3
TRANSP:0
END:VEVENT
END:VCALENDAR
