BEGIN:VCALENDAR
PRODID:-//AT Content Types//AT Event//EN
VERSION:1.0
BEGIN:VEVENT
DTSTART:20221130T171500Z
DTEND:20221130T190000Z
DCREATED:20220804T113048Z
UID:ATEvent-4ba4bb98eca142b5a2a6fb87745f1860
SEQUENCE:0
LAST-MODIFIED:20241002T102614Z
SUMMARY:Vortrag // Sybille Ebert-Schifferer: Guido Reni – der Anti-Caravaggio?
LOCATION:Zentralinstitut für Kunstgeschichte\, Katharina-von-Bora-Str. 10\, München\, Vortragssaal 242\, II. OG und digital
PRIORITY:3
TRANSP:0
END:VEVENT
END:VCALENDAR
