BEGIN:VCALENDAR
PRODID:-//AT Content Types//AT Event//EN
VERSION:1.0
BEGIN:VEVENT
DTSTART:20221012T100000Z
DTEND:20221012T110000Z
DCREATED:20220915T073130Z
UID:ATEvent-5f7bd6d2e9e54af88f132e43d8f8bd72
SEQUENCE:0
LAST-MODIFIED:20241002T103537Z
SUMMARY:++ENTFÄLLT++ Workshop // Aurea Klarskov: Algorithmus und Auslöschung
DESCRIPTION:Fellows und Mitarbeitende des ZI sowie Gastwissenschaftler
 innen und Gastwissenschaftler berichten über laufende Arbeiten. Die o
 ffene Form des Workshops ermöglicht eine intensive Diskussion.
LOCATION:Zentralinstitut für Kunstgeschichte\, Katharina-von-Bora-Str. 10\, München\, Vortragssaal 242
PRIORITY:3
TRANSP:0
END:VEVENT
END:VCALENDAR
