BEGIN:VCALENDAR
PRODID:-//AT Content Types//AT Event//EN
VERSION:1.0
BEGIN:VEVENT
DTSTART:20221019T100000Z
DTEND:20221019T110000Z
DCREATED:20220914T152647Z
UID:ATEvent-ed228503c2fb4bafa3df18819e7021fb
SEQUENCE:0
LAST-MODIFIED:20241002T103523Z
SUMMARY:Workshop // Konrad Krčal: Allegorical genres
DESCRIPTION:Fellows und Mitarbeitende des ZI sowie Gastwissenschaftler
 innen und Gastwissenschaftler berichten über laufende Arbeiten. Die o
 ffene Form des Workshops ermöglicht eine intensive Diskussion.
LOCATION:Zentralinstitut für Kunstgeschichte\, Vortragsraum 242\, II. OG
PRIORITY:3
TRANSP:0
END:VEVENT
END:VCALENDAR
