BEGIN:VCALENDAR
PRODID:-//AT Content Types//AT Event//EN
VERSION:1.0
BEGIN:VEVENT
DTSTART:20220706T100000Z
DTEND:20220706T110000Z
DCREATED:20220602T123255Z
UID:ATEvent-0109f37979664f10b6a0904926f2f5e1
SEQUENCE:0
LAST-MODIFIED:20240930T110350Z
SUMMARY:Workshop // Lisa Stuckey: Schwaches Recht kuratieren – Am Exempel »Tribunal NSU-Komplex auflösen«
DESCRIPTION:Fellows und Mitarbeitende des ZI sowie Gastwissenschaftler
 innen und Gastwissenschaftler berichten über laufende Arbeiten. Die o
 ffene Form des Workshops ermöglicht eine intensive Diskussion.
LOCATION:Zentralinstitut für Kunstgeschichte\, Katharina-von-Bora-Str. 10\, München\, Raum 110\, 1. OG
PRIORITY:3
TRANSP:0
END:VEVENT
END:VCALENDAR
