BEGIN:VCALENDAR
PRODID:-//AT Content Types//AT Event//EN
VERSION:1.0
BEGIN:VEVENT
DTSTART:20220325T140000Z
DTEND:20220325T150000Z
DCREATED:20220322T120854Z
UID:ATEvent-c8e941e5f43b4c89a63eec6bbc7bd6a8
SEQUENCE:0
LAST-MODIFIED:20240930T104521Z
SUMMARY:Workshop // Yoko Yamaguchi: A Turning Point in Japanese and German Puppetry: The Impact of Artists
DESCRIPTION:Fellows und Mitarbeitende des ZI sowie Gastwissenschaftler
 innen und Gastwissenschaftler berichten über laufende Arbeiten. Die o
 ffene Form des Workshops ermöglicht eine intensive Diskussion.
LOCATION:Zentralinstitut für Kunstgeschichte\, Vortragsraum 242\, II. OG
PRIORITY:3
TRANSP:0
END:VEVENT
END:VCALENDAR
