BEGIN:VCALENDAR
PRODID:-//AT Content Types//AT Event//EN
VERSION:1.0
BEGIN:VEVENT
DTSTART:20230420T080000Z
DTEND:20230630T180000Z
DCREATED:20230215T091327Z
UID:ATEvent-75d7372b48ca4f2ca1aabce64fdd89f5
SEQUENCE:0
LAST-MODIFIED:20251029T085745Z
SUMMARY:Ausstellung // Deutsch-koloniale Baukulturen. Eine globale Architekturgeschichte in 100 Primärquellen
DESCRIPTION:Ausstellungseröffnung und Präsentation der Katalogpublik
 ation am 19. April 2023 mit: Doppelvortrag // Dirk van Laak\, Leipzig:
  Deutsch-koloniale Infrastrukturplanung als Globalgeschichte | Michael
  Falser\, München: Deutsch-koloniales Bauen als Globale Architekturge
 schichte? Eine Einführung zum Ausstellungs- und Katalogprojekt
LOCATION:Zentralinstitut für Kunstgeschichte\, Katharina-von-Bora-Straße 10\, 80333 München\, Lichthof Nord\, I. OG
PRIORITY:3
TRANSP:0
END:VEVENT
END:VCALENDAR
