BEGIN:VCALENDAR
PRODID:-//AT Content Types//AT Event//EN
VERSION:1.0
BEGIN:VEVENT
DTSTART:20230323T113000Z
DTEND:20230325T160000Z
DCREATED:20230215T111525Z
UID:ATEvent-7d6f185ad2f1492ca90cb5a09ae6410f
SEQUENCE:0
LAST-MODIFIED:20241030T114737Z
SUMMARY:Conference // Wood: Between Natural Affordance and Cultural Values in Eurasia
LOCATION:Zentralinstitut für Kunstgeschichte\, Katharina-von-Bora-Straße 10\, 80333 Munich\, Room 242 + via zoom
PRIORITY:3
TRANSP:0
END:VEVENT
END:VCALENDAR
