BEGIN:VCALENDAR
PRODID:-//AT Content Types//AT Event//EN
VERSION:1.0
BEGIN:VEVENT
DTSTART:20230607T120000Z
DTEND:20230607T140000Z
DCREATED:20230404T101436Z
UID:ATEvent-39a8fdafcd5e48daafeb40d526b8d281
SEQUENCE:0
LAST-MODIFIED:20240923T100322Z
SUMMARY:Current Research. Lektüreseminar am ZI mit Aaron M. Hyman: The Matter of Merchant Paper
DESCRIPTION:Das Lektüreseminar diskutiert jüngst publizierte Arbeite
 n oder aber weitgehend abgeschlossene Manuskripte. Die Texte werden vi
 er Wochen im Voraus an die Teilnehmenden verschickt und dann gemeinsam
  mit den Autorinnen und Autoren diskutiert.
LOCATION:Zentralinstitut für Kunstgeschichte\, Katharina-von-Bora-Str. 10\, München\, Vortragssaal 242\, II. OG
PRIORITY:3
TRANSP:0
END:VEVENT
END:VCALENDAR
