BEGIN:VCALENDAR
PRODID:-//AT Content Types//AT Event//EN
VERSION:1.0
BEGIN:VEVENT
DTSTART:20230621T121500Z
DTEND:20230621T134500Z
DCREATED:20230606T112239Z
UID:ATEvent-b45788f4a2354a5987653a209c752c86
SEQUENCE:0
LAST-MODIFIED:20241030T122308Z
SUMMARY:Current Research. Lektüreseminar am ZI // Mit Luca Siracusano: Stucco statues in Venetian churches: Two asterisks for Iacopo Sansovino and Bartolomeo Ammannati
DESCRIPTION:Das Lektüreseminar diskutiert jüngst publizierte Arbeite
 n oder aber weitgehend abgeschlossene Manuskripte. Die Texte werden vi
 er Wochen im Voraus an die Teilnehmenden verschickt und dann gemeinsam
  mit den Autorinnen und Autoren diskutiert.
LOCATION:Zentralinstitut für Kunstgeschichte\, Katharina-von-Bora-Str. 10\, München\, Vortragssaal 242\, II. OG
PRIORITY:3
TRANSP:0
END:VEVENT
END:VCALENDAR
