BEGIN:VCALENDAR
PRODID:-//AT Content Types//AT Event//EN
VERSION:2.0
METHOD:PUBLISH
BEGIN:VEVENT
DTSTAMP:20260420T083154Z
CREATED:20230321T143159Z
UID:ATEvent-8a70b77fadb64ce3bd351f39d40d6ae3
LAST-MODIFIED:20240923T094756Z
SUMMARY:Vielfalt im Ãœberblick â€“ der Forschungsverbund Provenienzforschung Bayern stellt sich vor
DTSTART:20230412T110000Z
DTEND:20230412T130000Z
DESCRIPTION:Die Veranstaltung findet im Rahmen des vom Arbeitskreis fÃ
 ¼r Provenienzforschung e. V. koordinierten â€žTag der Provenienzforsch
 ungâ€œ statt.
LOCATION:digital
CATEGORIES:2023
CLASS:PUBLIC
END:VEVENT
END:VCALENDAR
