BEGIN:VCALENDAR
PRODID:-//AT Content Types//AT Event//EN
VERSION:2.0
METHOD:PUBLISH
BEGIN:VEVENT
DTSTAMP:20260422T080705Z
CREATED:20230207T133929Z
UID:ATEvent-6612519d8e3e436d8c36f636e41238f1
LAST-MODIFIED:20250326T091124Z
SUMMARY:Festvortrag Wolfgang-Ratjen-Preis 2023 // Martin Olin\, Stockholm: Paper Baroque. Drawings and the International Style in Architecture and Garden Design around 1700
DTSTART:20230510T161500Z
DTEND:20230510T180000Z
DESCRIPTION:Aus Anlass der Vergabe des Wolfgang-Ratjen-Preises 2023 an
  Dr. Ksenija Tschetschik-Hammerl\, Darmstadt\, für ihre Dissertation 
 „Originalität der Nachahmung um 1600: Kunst begegnet Natur bei Hans
  Hoffmann und Daniel Fröschel" sowie des Sonderpreises an Tamara Kobe
 l\, M.A.\, Laupen\, Schweiz\, für ihre Masterarbeit „Der ‚Eyersto
 ck‘ von Wilhelm Stettler. Handzeichnungen als künstlerisches Werkze
 ug und Sammlungsmedium“. Die Veranstaltung ist Teil der Veranstaltun
 gsreihe „Alle Zeiten\, alle Länder: Welt und Natur im Garten“.
LOCATION:Zentralinstitut für Kunstgeschichte\, Vortragsraum 242\, II. OG und digital
CATEGORIES:2023, Festvortrag WRP, Wolfgang-Ratjen-Preis, Reihe Alle Zeiten
CLASS:PUBLIC
END:VEVENT
END:VCALENDAR
