BEGIN:VCALENDAR
PRODID:-//AT Content Types//AT Event//EN
VERSION:2.0
METHOD:PUBLISH
BEGIN:VEVENT
DTSTAMP:20260420T130603Z
CREATED:20221206T132328Z
UID:ATEvent-d54f47952b6344f09fee279ffd93299e
LAST-MODIFIED:20250326T090759Z
SUMMARY:++ AUSGEBUCHT ++ KUNST-SONNTAG im Zentralinstitut für Kunstgeschichte – KUNST-GESCHICHTE entdecken // Das Parteizentrum der NSDAP am Königsplatz
DTSTART:20230305T100000Z
DTEND:20230305T110000Z
DESCRIPTION:Führung mit Iris Lauterbach
LOCATION:TREFFPUNKT: Eingangsfoyer des Gebäudes Katharina-von-Bora-Straße 10\, 80333 München
CATEGORIES:2023, Führung, Reihe Kunst-Sonntag 2023
CLASS:PUBLIC
END:VEVENT
END:VCALENDAR
