BEGIN:VCALENDAR
PRODID:-//AT Content Types//AT Event//EN
VERSION:2.0
METHOD:PUBLISH
BEGIN:VEVENT
DTSTAMP:20260423T144620Z
CREATED:20221104T134904Z
UID:ATEvent-2bdd616b2a314d5f9aa7e53a08fea349
LAST-MODIFIED:20250326T091008Z
SUMMARY:Kolloquium // Zwischen Himmel und Erde: Volieren in der Frühen Neuzeit und Moderne
DTSTART:20230118T171500Z
DTEND:20230118T192000Z
DESCRIPTION:Das Kolloquium ist Teil der Veranstaltungsreihe „Alle Ze
 iten\, alle Länder: Welt und Natur im Garten“.
LOCATION:Zentralinstitut für Kunstgeschichte\, Katharina-von-Bora-Str. 10\, München\, Vortragssaal 242\, II. OG + digital
CATEGORIES:2023, Reihe Alle Zeiten
CLASS:PUBLIC
END:VEVENT
END:VCALENDAR
