BEGIN:VCALENDAR
PRODID:-//AT Content Types//AT Event//EN
VERSION:2.0
METHOD:PUBLISH
BEGIN:VEVENT
DTSTAMP:20260422T175624Z
CREATED:20230112T113111Z
UID:ATEvent-8f41c44e5a8546ceb424a0d0846e510d
LAST-MODIFIED:20250326T090912Z
SUMMARY:++AUSGEBUCHT++ KUNST-SONNTAG im Zentralinstitut für Kunstgeschichte – KUNST-GESCHICHTE entdecken // Foto-Bestände aus der NS-Zeit in der Photothek des ZI
DTSTART:20230625T090000Z
DTEND:20230625T100000Z
DESCRIPTION:Führung mit Stephan Klingen
LOCATION:TREFFPUNKT: Eingangsfoyer des Gebäudes Katharina-von-Bora-Straße 10\, 80333 München
CATEGORIES:Führung, 2023, Reihe Kunst-Sonntag 2023
CLASS:PUBLIC
END:VEVENT
END:VCALENDAR
