BEGIN:VCALENDAR
PRODID:-//AT Content Types//AT Event//EN
VERSION:2.0
METHOD:PUBLISH
BEGIN:VEVENT
DTSTAMP:20260425T232309Z
CREATED:20230321T140342Z
UID:ATEvent-a8f1517d583742cab242048a9e7bf97b
LAST-MODIFIED:20240923T094658Z
SUMMARY:Stadtrundgang // GemÃ¤lde\, Kunsthandel und Provenienzforschung â€“ Spurensuche im Kunstareal
DTSTART:20230412T093000Z
DTEND:20230412T104500Z
DESCRIPTION:Die Veranstaltung findet im Rahmen des vom Arbeitskreis fÃ
 ¼r Provenienzforschung e. V. koordinierten â€žTag der Provenienzforsch
 ungâ€œ statt.
LOCATION:Treffpunkt: Foyer\, Alte Pinakothek\, Barer Str. 27\, 80333 MÃ¼nchen
CATEGORIES:2023
CLASS:PUBLIC
END:VEVENT
END:VCALENDAR
