BEGIN:VCALENDAR
PRODID:-//AT Content Types//AT Event//EN
VERSION:2.0
METHOD:PUBLISH
BEGIN:VEVENT
DTSTAMP:20260425T141445Z
CREATED:20230328T123159Z
UID:ATEvent-cd2206b9533f4020b5848d31674dba9c
LAST-MODIFIED:20240923T095703Z
SUMMARY:Vortrag // Aaron M. Hyman: Letterform Literacy\, or Seeing Script in Sixteenth-Century New Spain
DTSTART:20230607T161500Z
DTEND:20230607T180000Z
LOCATION:Zentralinstitut für Kunstgeschichte\, Katharina-von-Bora-Str. 10\, München\, Vortragssaal 242\, II. OG und digital
CATEGORIES:2023
CLASS:PUBLIC
END:VEVENT
END:VCALENDAR
