BEGIN:VCALENDAR
PRODID:-//AT Content Types//AT Event//EN
VERSION:2.0
METHOD:PUBLISH
BEGIN:VEVENT
DTSTAMP:20260420T165813Z
CREATED:20230519T073214Z
UID:ATEvent-ffea31a5fe0a4c30b0b976f74fdfe466
LAST-MODIFIED:20240923T100827Z
SUMMARY:++ ENTFÄLLT ++  Vortrag // Ann-Sophie Lehmann\, Groningen: “My Relationship With Sculpture Has to Be Adventurous”. Phyllida Barlow und Material als Beziehung ++ ENTFÄLLT ++
DTSTART:20231213T171500Z
DTEND:20231213T190000Z
DESCRIPTION:++ Vortrag fällt krankheitsbedingt aus ++
CATEGORIES:2023, Studienzentrum
CLASS:PUBLIC
END:VEVENT
END:VCALENDAR
