BEGIN:VCALENDAR
PRODID:-//AT Content Types//AT Event//EN
VERSION:2.0
METHOD:PUBLISH
BEGIN:VEVENT
DTSTAMP:20260420T130807Z
CREATED:20230331T100634Z
UID:ATEvent-a8cf296ca8a444a887df481af75df4dc
LAST-MODIFIED:20250902T103509Z
SUMMARY:Vortrag // Caroline van Eck: Cultures of Camouflage among Human and Non-Human Animals
DTSTART:20230421T162000Z
DTEND:20230421T180000Z
DESCRIPTION:Anlässlich der Vorstelllung des neuen Münchener Forschun
 gs- und Bibliotheksverbund MAIA – Munich | Artefacts\, Images\, Arch
 itecture. Research and Resources
LOCATION:Zentralinstitut für Kunstgeschichte\, Katharina-von-Bora-Str. 10\, München\, Vortragssaal 242\, II. OG und digital
CATEGORIES:2023
CLASS:PUBLIC
END:VEVENT
END:VCALENDAR
