BEGIN:VCALENDAR
PRODID:-//AT Content Types//AT Event//EN
VERSION:2.0
METHOD:PUBLISH
BEGIN:VEVENT
DTSTAMP:20260422T033817Z
CREATED:20230704T110358Z
UID:ATEvent-f563cbd21f4b495895b5cc1c1976f808
LAST-MODIFIED:20241030T122802Z
SUMMARY:Workshop // Esther Wipfler: Der gewalttätige Christus in den visuellen Medien von der Antike bis heute
DTSTART:20230726T100000Z
DTEND:20230726T110000Z
DESCRIPTION:Fellows und Mitarbeitende des ZI sowie Gastwissenschaftler
 innen und Gastwissenschaftler berichten über laufende Arbeiten. Die o
 ffene Form des Workshops ermöglicht eine intensive Diskussion.
LOCATION:Zentralinstitut für Kunstgeschichte\, Raum 242\, II OG
CATEGORIES:2023
CLASS:PUBLIC
END:VEVENT
END:VCALENDAR
