BEGIN:VCALENDAR
PRODID:-//AT Content Types//AT Event//EN
VERSION:1.0
BEGIN:VEVENT
DTSTART:20230307T110000Z
DTEND:20230307T120000Z
DCREATED:20230209T130942Z
UID:ATEvent-9f08efba0d6a404ab6ad4715ff2254dd
SEQUENCE:0
LAST-MODIFIED:20240923T092413Z
SUMMARY:Workshop // Ewa Manikowska\, Warschau: Illuminated Manuscripts\, Photographic Collections and the Legacy of the Second World War: Contextualizing a rediscovered German Photo-Archive
DESCRIPTION:Fellows und Mitarbeitende des ZI sowie Gastwissenschaftler
 innen und Gastwissenschaftler berichten über laufende Arbeiten. Die o
 ffene Form des Workshops ermöglicht eine intensive Diskussion.
LOCATION:Zentralinstitut für Kunstgeschichte\, Raum 242\, II OG
PRIORITY:3
TRANSP:0
END:VEVENT
END:VCALENDAR
