BEGIN:VCALENDAR
PRODID:-//AT Content Types//AT Event//EN
VERSION:1.0
BEGIN:VEVENT
DTSTART:20231122T110000Z
DTEND:20231122T120000Z
DCREATED:20231113T083145Z
UID:ATEvent-ecb0169bf1ae41fb895efcefe63f7576
SEQUENCE:0
LAST-MODIFIED:20240923T103218Z
SUMMARY:++ENTFÄLLT++ Workshop // Hana Gründler: Erschütterungen des Sinns. Überlegungen zur inoffiziellen Kunst und Philosophie in der ČSSR\, 1968–1978
DESCRIPTION:Fellows und Mitarbeitende des ZI sowie Gastwissenschaftler
 innen und Gastwissenschaftler berichten über laufende Arbeiten. Die o
 ffene Form des Workshops ermöglicht eine intensive Diskussion.
LOCATION:Vortragsraum 242\, II. OG\, Katharina-von-Bora-Straße 10\, 80333 München
PRIORITY:3
TRANSP:0
END:VEVENT
END:VCALENDAR
