BEGIN:VCALENDAR
PRODID:-//AT Content Types//AT Event//EN
VERSION:2.0
METHOD:PUBLISH
BEGIN:VEVENT
DTSTAMP:20260420T165454Z
CREATED:20230622T103113Z
UID:ATEvent-0498f6cc8716426fb04ce0b5544a0e26
LAST-MODIFIED:20241030T122510Z
SUMMARY:Workshop //  Kaila Howell: Color and Bildung in Philipp Otto Runge`s Artistic-Theoretical Project
DTSTART:20230719T100000Z
DTEND:20230719T110000Z
DESCRIPTION:Fellows und Mitarbeitende des ZI sowie Gastwissenschaftler
 innen und Gastwissenschaftler berichten über laufende Arbeiten. Die o
 ffene Form des Workshops ermöglicht eine intensive Diskussion.
LOCATION:Zentralinstitut für Kunstgeschichte\, Raum 242\, II OG
CLASS:PUBLIC
END:VEVENT
END:VCALENDAR
