BEGIN:VCALENDAR
PRODID:-//AT Content Types//AT Event//EN
VERSION:1.0
BEGIN:VEVENT
DTSTART:20230705T100000Z
DTEND:20230705T110000Z
DCREATED:20230616T094314Z
UID:ATEvent-d90c789ba95849f18cce4503ded1c380
SEQUENCE:0
LAST-MODIFIED:20240923T101520Z
SUMMARY:Workshop // Kristin Weber: Der Körper als Zeichenträger in der zeitgenössischen Fotografie
DESCRIPTION:Fellows und Mitarbeitende des ZI sowie Gastwissenschaftler
 innen und Gastwissenschaftler berichten über laufende Arbeiten. Die o
 ffene Form des Workshops ermöglicht eine intensive Diskussion.
LOCATION:Zentralinstitut für Kunstgeschichte\, Raum 242\, II OG
PRIORITY:3
TRANSP:0
END:VEVENT
END:VCALENDAR
