BEGIN:VCALENDAR
PRODID:-//AT Content Types//AT Event//EN
VERSION:1.0
BEGIN:VEVENT
DTSTART:20231129T110000Z
DTEND:20231129T120000Z
DCREATED:20231110T113241Z
UID:ATEvent-9b6d409429274c0ba713ae962eaa8c34
SEQUENCE:0
LAST-MODIFIED:20240923T103057Z
SUMMARY:Workshop // Mirjana Mitrović: Hybride Welten: Flânieren zwischen analogen und digitalen Realitäten
DESCRIPTION:Fellows und Mitarbeitende des ZI sowie Gastwissenschaftler
 innen und Gastwissenschaftler berichten über laufende Arbeiten. Die o
 ffene Form des Workshops ermöglicht eine intensive Diskussion.
LOCATION:Vortragsraum 242\, II. OG\, Katharina-von-Bora-Straße 10\, 80333 München
PRIORITY:3
TRANSP:0
END:VEVENT
END:VCALENDAR
