BEGIN:VCALENDAR
PRODID:-//AT Content Types//AT Event//EN
VERSION:2.0
METHOD:PUBLISH
BEGIN:VEVENT
DTSTAMP:20260420T095633Z
CREATED:20230307T104219Z
UID:ATEvent-9c3cfbb8f406489ca89d6b34a42e5868
LAST-MODIFIED:20240923T094246Z
SUMMARY:Workshop // Scalability and its Limits in Photography and (Digital) Sculpture
DTSTART:20230719T121500Z
DTEND:20230721T100000Z
DESCRIPTION:Organized by: Ursula Ströbele (ZIKG Munich)\, Maria Männ
 ig (RPTU Kaiserslautern-Landau)\, Buket Altinoba (LMU Munich)\, Domini
 k Schrey (University of Passau)
LOCATION:Zentralinstitut für Kunstgeschichte\, Raum 110\, I. OG
CATEGORIES:2023, Studienzentrum
CLASS:PUBLIC
END:VEVENT
END:VCALENDAR
