BEGIN:VCALENDAR
PRODID:-//AT Content Types//AT Event//EN
VERSION:2.0
METHOD:PUBLISH
BEGIN:VEVENT
DTSTAMP:20260420T050455Z
CREATED:20241007T144919Z
UID:ATEvent-b5d29d0bcb104f339c75e8540ad13994
LAST-MODIFIED:20241107T114046Z
SUMMARY:Current Research // Lektüreseminar am ZI mit Elizabeth J. Petcu: The Architectural Image and Early Modern Science: Wendel Dietterlin and the Rise of Empirical Investigation
DTSTART:20241113T130000Z
DTEND:20241113T150000Z
DESCRIPTION:Das Lektüreseminar diskutiert jüngst publizierte Arbeite
 n oder aber weitgehend abgeschlossene Manuskripte. Die Texte werden im
  Voraus an die Teilnehmenden verschickt und dann gemeinsam mit den Aut
 orinnen und Autoren diskutiert.
LOCATION:Zentralinstitut für Kunstgeschichte\, Katharina-von-Bora-Str. 10\, 80333 München\, Raum 110\, I. OG
CATEGORIES:Current Research, 2024
CLASS:PUBLIC
END:VEVENT
END:VCALENDAR
