BEGIN:VCALENDAR
PRODID:-//AT Content Types//AT Event//EN
VERSION:2.0
METHOD:PUBLISH
BEGIN:VEVENT
DTSTAMP:20260420T084341Z
CREATED:20231215T143538Z
UID:ATEvent-382fb1879ad4444a949a8f77bbab6644
LAST-MODIFIED:20250324T111931Z
SUMMARY:Doppelvortrag // Gustave Courbets Werke als Herausforderungen an die kunsthistorische Methodik
DTSTART:20240320T171500Z
DTEND:20240320T190000Z
DESCRIPTION:Mit Vorträgen von Stephanie Marchal und Regine Prange. Be
 ide Vorträge sind Teil der Vortragsreihe „Wechselwirkungen. Dialoge
  zwischen Kunst und (Kultur-)Wissenschaften“.
LOCATION:Zentralinstitut für Kunstgeschichte\, Katharina-von-Bora-Str. 10\, München\, Vortragssaal 242\, II. OG und digital
CATEGORIES:2024, Reihe Wechselwirkungen
CLASS:PUBLIC
END:VEVENT
END:VCALENDAR
