BEGIN:VCALENDAR
PRODID:-//AT Content Types//AT Event//EN
VERSION:2.0
METHOD:PUBLISH
BEGIN:VEVENT
DTSTAMP:20260423T200852Z
CREATED:20231215T141755Z
UID:ATEvent-ef55f858f7fb4df8b348e0edaf1c90a2
LAST-MODIFIED:20250324T111842Z
SUMMARY:Doppelvortrag // Jenseits des Kanons. Geschichtsmodelle und Ursprungsmythen in der frühen Kunstgeschichte
DTSTART:20240207T171500Z
DTEND:20240207T190000Z
DESCRIPTION:Mit Vorträgen von Audrey Rieber und ++ entfällt ++Tobias
  Teutenberg ++ entfällt ++. Beide Vorträge sind Teil der Vortragsrei
 he „Wechselwirkungen. Dialoge zwischen Kunst und (Kultur-)Wissenscha
 ften“.
LOCATION:Zentralinstitut für Kunstgeschichte\, Katharina-von-Bora-Str. 10\, München\, Vortragssaal 242\, II. OG und digital
CATEGORIES:2024, Reihe Wechselwirkungen
CLASS:PUBLIC
END:VEVENT
END:VCALENDAR
