BEGIN:VCALENDAR
PRODID:-//AT Content Types//AT Event//EN
VERSION:2.0
METHOD:PUBLISH
BEGIN:VEVENT
DTSTAMP:20260420T084305Z
CREATED:20240214T131951Z
UID:ATEvent-d2795373686c404f9d0d5f8fa2ee4471
LAST-MODIFIED:20240918T121336Z
SUMMARY:+++entfällt +++ Michael Hering\, München: „der Vergeblichkeit gewidmet“ – Bemerkungen zu Gerhard Richters Zeichenkunst +++entfällt +++
DTSTART:20240605T161500Z
DTEND:20240605T180000Z
LOCATION:Zentralinstitut für Kunstgeschichte\, Katharina-von-Bora-Str. 10\, München\, Vortragssaal 242\, II. OG + digital
CATEGORIES:2024
CLASS:PUBLIC
END:VEVENT
END:VCALENDAR
